BEGIN:VCALENDAR
VERSION:2.0
PRODID:-//Bellator Aleae e.V. - ECPv6.15.20//NONSGML v1.0//EN
CALSCALE:GREGORIAN
METHOD:PUBLISH
X-ORIGINAL-URL:https://www.bellator-aleae.de
X-WR-CALDESC:Veranstaltungen für Bellator Aleae e.V.
REFRESH-INTERVAL;VALUE=DURATION:PT1H
X-Robots-Tag:noindex
X-PUBLISHED-TTL:PT1H
BEGIN:VTIMEZONE
TZID:Europe/Berlin
BEGIN:DAYLIGHT
TZOFFSETFROM:+0100
TZOFFSETTO:+0200
TZNAME:CEST
DTSTART:20240331T010000
END:DAYLIGHT
BEGIN:STANDARD
TZOFFSETFROM:+0200
TZOFFSETTO:+0100
TZNAME:CET
DTSTART:20241027T010000
END:STANDARD
BEGIN:DAYLIGHT
TZOFFSETFROM:+0100
TZOFFSETTO:+0200
TZNAME:CEST
DTSTART:20250330T010000
END:DAYLIGHT
BEGIN:STANDARD
TZOFFSETFROM:+0200
TZOFFSETTO:+0100
TZNAME:CET
DTSTART:20251026T010000
END:STANDARD
BEGIN:DAYLIGHT
TZOFFSETFROM:+0100
TZOFFSETTO:+0200
TZNAME:CEST
DTSTART:20260329T010000
END:DAYLIGHT
BEGIN:STANDARD
TZOFFSETFROM:+0200
TZOFFSETTO:+0100
TZNAME:CET
DTSTART:20261025T010000
END:STANDARD
END:VTIMEZONE
BEGIN:VEVENT
DTSTART;TZID=Europe/Berlin:20251108T140000
DTEND;TZID=Europe/Berlin:20251108T180000
DTSTAMP:20260423T173638
CREATED:20250923T180734Z
LAST-MODIFIED:20251102T164340Z
UID:3536-1762610400-1762624800@www.bellator-aleae.de
SUMMARY:DCC Helden von Ludovicum
DESCRIPTION:Das Dorf Ludovicum ist wieder in Gefahr. Nachdem der Sieg über den grausamen Zauberer Broshgar einen hohen Blutzoll gefordert hat\, braucht euer Dorf weitere Helden. Wer wird das Geheimnis der Dreizehn Bräute des Blutes entschlüsseln?\nAm 8. November\, von 14 Uhr bis 18 Uhr\, spielen wir einen weiteren Dungeon Crawl Classic Trichter unserer Kampagne „Helden von Ludovicum“ in der Remise. Jeder\, der Zeit und Lust hat\, ist eingeladen\, Samstag vorbeizuschauen und mitzumachen.
URL:https://www.bellator-aleae.de/event/dcc-helden-von-ludovicum/
LOCATION:Bürgerzentrum Remise\, Kiskerstraße 2\, Halle (Westf.)\, 33790\, Deutschland
CATEGORIES:Offene Veranstaltung,Pen&Paper
ORGANIZER;CN="thd":MAILTO:thd@bellator-aleae.de
END:VEVENT
END:VCALENDAR